BEGIN:VCALENDAR
VERSION:2.0
PRODID:-//Plone.org//NONSGML plone.app.event//EN
X-WR-TIMEZONE:US/Central
BEGIN:VEVENT
SUMMARY:Free Chess Lessons
DTSTART;TZID=US/Central:20260401T164500
DTEND;TZID=US/Central:20260401T174500
DTSTAMP:20260424T160225Z
UID:aac9ddb1fc9a401287735b07e9a56cb3@saas_stack_varnish:6080
CREATED:20260309T184233Z
DESCRIPTION:The Schulenburg Chess Club is offering free chess lessons at t
 he Schulenburg Public Library on Wednesdays from 4:45pm to 5:45pm. Registr
 ation is required. Please call 979 743 3345 to register for the class. Sea
 ting is limited.
LAST-MODIFIED:20260309T184316Z
URL:https://www.schulenburglibrary.org/free-chess-lessons-17
END:VEVENT
BEGIN:VTIMEZONE
TZID:US/Central
X-LIC-LOCATION:US/Central
BEGIN:DAYLIGHT
DTSTART:20260308T030000
TZNAME:CDT
TZOFFSETFROM:-0600
TZOFFSETTO:-0500
END:DAYLIGHT
END:VTIMEZONE
END:VCALENDAR
