BEGIN:VCALENDAR
VERSION:2.0
PRODID:-//Plone.org//NONSGML plone.app.event//EN
X-WR-TIMEZONE:US/Central
BEGIN:VEVENT
SUMMARY:Book Sale
DTSTART;TZID=US/Central:20260507T100000
DTEND;TZID=US/Central:20260507T180000
DTSTAMP:20260423T055505Z
UID:548eaf5a4d0745e4b164548d3ae45abe@saas_stack_varnish:6080
CONTACT:Cindy Lytle\, Donna Holub\, or Thadious Polasek\, 979 743 3345\, s
 chulenburgpubliclibrary@yahoo.com
CREATED:20260421T153427Z
DESCRIPTION:The Friends of the Schulenburg Public Library are having a boo
 k sale.  The sale is during regular library hours.
LAST-MODIFIED:20260421T153504Z
LOCATION:Schulenburg Public Library
URL:https://www.schulenburglibrary.org/book-sale-1
END:VEVENT
BEGIN:VTIMEZONE
TZID:US/Central
X-LIC-LOCATION:US/Central
BEGIN:DAYLIGHT
DTSTART:20260308T030000
TZNAME:CDT
TZOFFSETFROM:-0600
TZOFFSETTO:-0500
END:DAYLIGHT
END:VTIMEZONE
END:VCALENDAR
